Workbook
Name FiscalYearStartDate: 'Monthly Cash Flow Statement (Te'!$B$4
Name FiscalYearStartDate: 'Monthly Cash Flow Statement (Ex'!$B$4

Sheet Getting Started
B8: Cash Flow Statement Template
B10: Manage cash receipts and payments for your business to maintain healthy cash flow.
B11: We created this template to help you estimate your sales, payments, and balance every month.
B13: Using this template
B15: 1) This template is offline. It does not connect to your accounting software. Make sure to update it regularly.
B16: 2) Fill in any green text in the header with your business information.
B17: 3) Fill in your fiscal year end date. You can find this on your tax return or articles of incorporation.
B18: 4) Fill in the blank rows with your business' receipts and payments. The 'Total' rows will calculate on their own.
B19: 5) Show your accountant how pro-active and organized you are!
B23: About FundThrough | H23: =HYPERLINK("https://fundthrough.com","Visit FundThrough.com") -> Visit FundThrough.com
B25: FundThrough removes cash flow gaps by advancing payments on unpaid invoices.
B26: Business owners can access instant, on-demand working capital and never worry about payments again.
B27: FundThrough is a VC-backed technology company with investments from RealVentures and ScaleUP.
B29: Need help?
B30: Contact FundThrough at https://fundthrough.com for questions.
B31: Email support at info@fundthrough.com
B32: Use of this template is unrestricted and free of copyright.

Sheet Monthly Cash Flow Statement (Te
B1: Your Company 12-Month Cash Flow Statement
B2: Prepared by: Your Name Last update: Updated On
B3: Fiscal Year-end: | E3: =UPPER(TEXT('Monthly Cash Flow Statement (Te'!FiscalYearStartDate,"mmm")) -> JAN | F3: =UPPER(TEXT(EOMONTH('Monthly Cash Flow Statement (Te'!FiscalYearStartDate,1),"mmm")) -> FEB | G3: =UPPER(TEXT(EOMONTH('Monthly Cash Flow Statement (Te'!FiscalYearStartDate,2),"mmm")) -> MAR | H3: =UPPER(TEXT(EOMONTH('Monthly Cash Flow Statement (Te'!FiscalYearStartDate,3),"mmm")) -> APR | I3: =UPPER(TEXT(EOMONTH('Monthly Cash Flow Statement (Te'!FiscalYearStartDate,4),"mmm")) -> MAY | J3: =UPPER(TEXT(EOMONTH('Monthly Cash Flow Statement (Te'!FiscalYearStartDate,5),"mmm")) -> JUN | K3: =UPPER(TEXT(EOMONTH('Monthly Cash Flow Statement (Te'!FiscalYearStartDate,6),"mmm")) -> JUL | L3: =UPPER(TEXT(EOMONTH('Monthly Cash Flow Statement (Te'!FiscalYearStartDate,7),"mmm")) -> AUG | M3: =UPPER(TEXT(EOMONTH('Monthly Cash Flow Statement (Te'!FiscalYearStartDate,8),"mmm")) -> SEP | N3: =UPPER(TEXT(EOMONTH('Monthly Cash Flow Statement (Te'!FiscalYearStartDate,9),"mmm")) -> OCT | O3: =UPPER(TEXT(EOMONTH('Monthly Cash Flow Statement (Te'!FiscalYearStartDate,10),"mmm")) -> NOV | P3: =UPPER(TEXT(EOMONTH('Monthly Cash Flow Statement (Te'!FiscalYearStartDate,11),"mmm")) -> DEC | R3: FISCAL YE | S3: Trend
B4: 43101 | E4: 2018 | F4: 2018 | G4: 2018 | H4: 2018 | I4: 2018 | J4: 2018 | K4: 2018 | L4: 2018 | M4: 2018 | N4: 2018 | O4: 2018 | P4: 2018 | R4: 2018
D6: Starting Funds
B7: Starting Monthly Cash | E7: =D50 -> 0 | F7: =E50 -> 0 | G7: =F50 -> 0 | H7: =G50 -> 0 | I7: =H50 -> 0 | J7: =I50 -> 0 | K7: =J50 -> 0 | L7: =K50 -> 0 | ... P7: =O50 -> 0 | R7: =D7 -> 0
B9: (+) Cash Receipts | C9: Detail
B10: Cash Sales | R10: =SUM('Monthly Cash Flow Statement (Te'!$D10:$P10) -> 0 | S10: {=SPARKLINE('Monthly Cash Flow Statement (Te'!D10:P10, {"charttype","column";"color","#19b89b";"empty","ignore";"nan","convert"})} -> #NAME?
B11: Account Collections | R11: =SUM('Monthly Cash Flow Statement (Te'!$D11:$P11) -> 0
B12: Borrowed Cash Injections | R12: =SUM('Monthly Cash Flow Statement (Te'!$D12:$P12) -> 0
B13: Interest Income | R13: =SUM('Monthly Cash Flow Statement (Te'!$D13:$P13) -> 0
B14: Tax Refunds | R14: =SUM('Monthly Cash Flow Statement (Te'!$D14:$P14) -> 0
B15: Other Cash income | R15: =SUM('Monthly Cash Flow Statement (Te'!$D15:$P15) -> 0
B16: Total Receipts | E16: =SUBTOTAL(109,'Monthly Cash Flow Statement (Te'!E$10:E$15) -> 0 | F16: =SUBTOTAL(109,'Monthly Cash Flow Statement (Te'!F$10:F$15) -> 0 | G16: =SUBTOTAL(109,'Monthly Cash Flow Statement (Te'!G$10:G$15) -> 0 | H16: =SUBTOTAL(109,'Monthly Cash Flow Statement (Te'!H$10:H$15) -> 0 | I16: =SUBTOTAL(109,'Monthly Cash Flow Statement (Te'!I$10:I$15) -> 0 | J16: =SUBTOTAL(109,'Monthly Cash Flow Statement (Te'!J$10:J$15) -> 0 | K16: =SUBTOTAL(109,'Monthly Cash Flow Statement (Te'!K$10:K$15) -> 0 | L16: =SUBTOTAL(109,'Monthly Cash Flow Statement (Te'!L$10:L$15) -> 0 | ... P16: =SUBTOTAL(109,'Monthly Cash Flow Statement (Te'!P$10:P$15) -> 0 | R16: =SUBTOTAL(109,'Monthly Cash Flow Statement (Te'!$R$10:$R$15) -> 0
B18: (-) Cash Payments
B19: Purchases (inventory) | R19: =SUM('Monthly Cash Flow Statement (Te'!$D19:$P19) -> 0
B20: Purchases (equipment) | R20: =SUM('Monthly Cash Flow Statement (Te'!$D20:$P20) -> 0
B21: Purchases (other) | R21: =SUM('Monthly Cash Flow Statement (Te'!$D21:$P21) -> 0
B22: Salaries and wages | R22: =SUM('Monthly Cash Flow Statement (Te'!$D22:$P22) -> 0
B23: Payroll expense (tax, benefits) | R23: =SUM('Monthly Cash Flow Statement (Te'!$D23:$P23) -> 0
B24: Office supplies | R24: =SUM('Monthly Cash Flow Statement (Te'!$D24:$P24) -> 0
B25: Repairs & maintenance | R25: =SUM('Monthly Cash Flow Statement (Te'!$D25:$P25) -> 0
B26: Marketing | R26: =SUM('Monthly Cash Flow Statement (Te'!$D26:$P26) -> 0
B27: Transportation & fuel | R27: =SUM('Monthly Cash Flow Statement (Te'!$D27:$P27) -> 0
B28: Accounting & legal | R28: =SUM('Monthly Cash Flow Statement (Te'!$D28:$P28) -> 0
B29: Rent & facility | R29: =SUM('Monthly Cash Flow Statement (Te'!$D29:$P29) -> 0
B30: Telecom | R30: =SUM('Monthly Cash Flow Statement (Te'!$D30:$P30) -> 0
... B37: Other (specify) | R37: =SUM('Monthly Cash Flow Statement (Te'!$D37:$P37) -> 0
B38: Total Cash Payments | D38: =SUBTOTAL(109,'Monthly Cash Flow Statement (Te'!$D$19:$D$37) -> 0 | E38: =SUBTOTAL(109,'Monthly Cash Flow Statement (Te'!$E$19:$E$37) -> 0 | F38: =SUBTOTAL(109,'Monthly Cash Flow Statement (Te'!$F$19:$F$37) -> 0 | G38: =SUBTOTAL(109,'Monthly Cash Flow Statement (Te'!$G$19:$G$37) -> 0 | H38: =SUBTOTAL(109,'Monthly Cash Flow Statement (Te'!$H$19:$H$37) -> 0 | I38: =SUBTOTAL(109,'Monthly Cash Flow Statement (Te'!$I$19:$I$37) -> 0 | J38: =SUBTOTAL(109,'Monthly Cash Flow Statement (Te'!$J$19:$J$37) -> 0 | K38: =SUBTOTAL(109,'Monthly Cash Flow Statement (Te'!$K$19:$K$37) -> 0 | L38: =SUBTOTAL(109,'Monthly Cash Flow Statement (Te'!$L$19:$L$37) -> 0 | M38: =SUBTOTAL(109,'Monthly Cash Flow Statement (Te'!$M$19:$M$37) -> 0 | N38: =SUBTOTAL(109,'Monthly Cash Flow Statement (Te'!$N$19:$N$37) -> 0 | O38: =SUBTOTAL(109,'Monthly Cash Flow Statement (Te'!$O$19:$O$37) -> 0 | P38: =SUBTOTAL(109,'Monthly Cash Flow Statement (Te'!$P$19:$P$37) -> 0 | R38: =SUBTOTAL(109,'Monthly Cash Flow Statement (Te'!$R$19:$R$37) -> 0
B40: (-) Cash Payments (Non P&L)
B41: Loan principal payment | R41: =SUM('Monthly Cash Flow Statement (Te'!$D41:$P41) -> 0
B42: Capital purchase | R42: =SUM('Monthly Cash Flow Statement (Te'!$D42:$P42) -> 0
B43: Other startup costs | R43: =SUM('Monthly Cash Flow Statement (Te'!$D43:$P43) -> 0
B44: Reserve and/or escrow | R44: =SUM('Monthly Cash Flow Statement (Te'!$D44:$P44) -> 0
B45: Owners' withdrawal | R45: =SUM('Monthly Cash Flow Statement (Te'!$D45:$P45) -> 0
B46: Total Non-P&L Payments | D46: =SUBTOTAL(109,'Monthly Cash Flow Statement (Te'!$D$41:$D$45) -> 0 | E46: =SUBTOTAL(109,'Monthly Cash Flow Statement (Te'!$E$41:$E$45) -> 0 | F46: =SUBTOTAL(109,'Monthly Cash Flow Statement (Te'!$F$41:$F$45) -> 0 | G46: =SUBTOTAL(109,'Monthly Cash Flow Statement (Te'!$G$41:$G$45) -> 0 | H46: =SUBTOTAL(109,'Monthly Cash Flow Statement (Te'!$H$41:$H$45) -> 0 | I46: =SUBTOTAL(109,'Monthly Cash Flow Statement (Te'!$I$41:$I$45) -> 0 | J46: =SUBTOTAL(109,'Monthly Cash Flow Statement (Te'!$J$41:$J$45) -> 0 | K46: =SUBTOTAL(109,'Monthly Cash Flow Statement (Te'!$K$41:$K$45) -> 0 | L46: =SUBTOTAL(109,'Monthly Cash Flow Statement (Te'!$L$41:$L$45) -> 0 | M46: =SUBTOTAL(109,'Monthly Cash Flow Statement (Te'!$M$41:$M$45) -> 0 | N46: =SUBTOTAL(109,'Monthly Cash Flow Statement (Te'!$N$41:$N$45) -> 0 | O46: =SUBTOTAL(109,'Monthly Cash Flow Statement (Te'!$O$41:$O$45) -> 0 | P46: =SUBTOTAL(109,'Monthly Cash Flow Statement (Te'!$P$41:$P$45) -> 0 | R46: =SUBTOTAL(109,'Monthly Cash Flow Statement (Te'!$R$41:$R$45) -> 0
B48: Total Payments | D48: =SUM('Monthly Cash Flow Statement (Te'!$D$19:$D$37,'Monthly Cash Flow Statement (Te'!$D$41:$D$45) -> 0 | E48: =SUM('Monthly Cash Flow Statement (Te'!$E$19:$E$37,'Monthly Cash Flow Statement (Te'!$E$41:$E$45) -> 0 | F48: =SUM('Monthly Cash Flow Statement (Te'!$F$19:$F$37,'Monthly Cash Flow Statement (Te'!$F$41:$F$45) -> 0 | G48: =SUM('Monthly Cash Flow Statement (Te'!$G$19:$G$37,'Monthly Cash Flow Statement (Te'!$G$41:$G$45) -> 0 | H48: =SUM('Monthly Cash Flow Statement (Te'!$H$19:$H$37,'Monthly Cash Flow Statement (Te'!$H$41:$H$45) -> 0 | I48: =SUM('Monthly Cash Flow Statement (Te'!$I$19:$I$37,'Monthly Cash Flow Statement (Te'!$I$41:$I$45) -> 0 | J48: =SUM('Monthly Cash Flow Statement (Te'!$J$19:$J$37,'Monthly Cash Flow Statement (Te'!$J$41:$J$45) -> 0 | K48: =SUM('Monthly Cash Flow Statement (Te'!$K$19:$K$37,'Monthly Cash Flow Statement (Te'!$K$41:$K$45) -> 0 | L48: =SUM('Monthly Cash Flow Statement (Te'!$L$19:$L$37,'Monthly Cash Flow Statement (Te'!$L$41:$L$45) -> 0 | M48: =SUM('Monthly Cash Flow Statement (Te'!$M$19:$M$37,'Monthly Cash Flow Statement (Te'!$M$41:$M$45) -> 0 | N48: =SUM('Monthly Cash Flow Statement (Te'!$N$19:$N$37,'Monthly Cash Flow Statement (Te'!$N$41:$N$45) -> 0 | O48: =SUM('Monthly Cash Flow Statement (Te'!$O$19:$O$37,'Monthly Cash Flow Statement (Te'!$O$41:$O$45) -> 0 | P48: =SUM('Monthly Cash Flow Statement (Te'!$P$19:$P$37,'Monthly Cash Flow Statement (Te'!$P$41:$P$45) -> 0 | R48: =R38+R46 -> 0
B50: Month-End Cash Balance | D50: =D7+D16-D48 -> 0 | E50: =E7+E16-E48 -> 0 | F50: =F7+F16-F48 -> 0 | G50: =G7+G16-G48 -> 0 | H50: =H7+H16-H48 -> 0 | I50: =I7+I16-I48 -> 0 | J50: =J7+J16-J48 -> 0 | K50: =K7+K16-K48 -> 0 | ... P50: =P7+P16-P48 -> 0 | R50: =R7+R16-R48 -> 0
E52: =IF(E50<0,HYPERLINK("https://fundthrough.com","Seeing red? Advance your payments at FundThrough.com"),"") | F52: =IF(F50<0,HYPERLINK("https://fundthrough.com","Seeing red? Advance your payments at FundThrough.com"),"") | G52: =IF(G50<0,HYPERLINK("https://fundthrough.com","Seeing red? Advance your payments at FundThrough.com"),"") | H52: =IF(H50<0,HYPERLINK("https://fundthrough.com","Seeing red? Advance your payments at FundThrough.com"),"") | I52: =IF(I50<0,HYPERLINK("https://fundthrough.com","Seeing red? Advance your payments at FundThrough.com"),"") | J52: =IF(J50<0,HYPERLINK("https://fundthrough.com","Seeing red? Advance your payments at FundThrough.com"),"") | K52: =IF(K50<0,HYPERLINK("https://fundthrough.com","Seeing red? Advance your payments at FundThrough.com"),"") | L52: =IF(L50<0,HYPERLINK("https://fundthrough.com","Seeing red? Advance your payments at FundThrough.com"),"") | ... P52: =IF(P50<0,HYPERLINK("https://fundthrough.com","Seeing red? Advance your payments at FundThrough.com"),"")

Sheet Monthly Cash Flow Statement (Ex
B1: Greyjoy Fisheries 12-Month Cash Flow Statement
B2: Prepared by: Theon Greyjoy Last update: January 14 2018
B3: Fiscal year-end: | E3: =UPPER(TEXT(FiscalYearStartDate,"mmm")) -> JAN | F3: =UPPER(TEXT(EOMONTH(FiscalYearStartDate,1),"mmm")) -> FEB | G3: =UPPER(TEXT(EOMONTH(FiscalYearStartDate,2),"mmm")) -> MAR | H3: =UPPER(TEXT(EOMONTH(FiscalYearStartDate,3),"mmm")) -> APR | I3: =UPPER(TEXT(EOMONTH(FiscalYearStartDate,4),"mmm")) -> MAY | J3: =UPPER(TEXT(EOMONTH(FiscalYearStartDate,5),"mmm")) -> JUN | K3: =UPPER(TEXT(EOMONTH(FiscalYearStartDate,6),"mmm")) -> JUL | L3: =UPPER(TEXT(EOMONTH(FiscalYearStartDate,7),"mmm")) -> AUG | M3: =UPPER(TEXT(EOMONTH(FiscalYearStartDate,8),"mmm")) -> SEP | N3: =UPPER(TEXT(EOMONTH(FiscalYearStartDate,9),"mmm")) -> OCT | O3: =UPPER(TEXT(EOMONTH(FiscalYearStartDate,10),"mmm")) -> NOV | P3: =UPPER(TEXT(EOMONTH(FiscalYearStartDate,11),"mmm")) -> DEC | R3: FISCAL YE | S3: Trend
B4: 43101 | E4: 2018 | F4: 2018 | G4: 2018 | H4: 2018 | I4: 2018 | J4: 2018 | K4: 2018 | L4: 2018 | M4: 2018 | N4: 2018 | O4: 2018 | P4: 2018 | R4: 2018
D6: Starting Funds
B7: Starting Monthly Cash | D7: 10000 | E7: =D54 -> 10000 | F7: =E54 -> 6380 | G7: =F54 -> 2885 | H7: =G54 -> -1714 | I7: =H54 -> 8556 | J7: =I54 -> -2224 | K7: =J54 -> 11966 | L7: =K54 -> 8606 | ... P7: =O54 -> 521 | R7: =D7 -> 10000
B9: (+) Cash Receipts | C9: Detail
B10: Cash Sales | E10: 28125 | F10: 24195 | G10: 25050 | H10: 29450 | I10: 26610 | J10: 23600 | K10: 34820 | L10: 33775 | M10: 28615 | N10: 28150 | O10: 30890 | P10: 34030 | R10: =SUM('Monthly Cash Flow Statement (Ex'!$D10:$P10) -> 347310
B11: Account Collections | D11: - | E11: - | F11: - | G11: - | H11: - | I11: - | J11: - | K11: - | L11: - | M11: - | N11: - | O11: - | P11: - | R11: =SUM('Monthly Cash Flow Statement (Ex'!$D11:$P11) -> 0
B12: Lannisters (net 90) | C12: Good for it | F12: 2890 | H12: 3700 | I12: 1300 | M12: 4150 | R12: =SUM('Monthly Cash Flow Statement (Ex'!$D12:$P12) -> 12040
B13: Valar Morghulis (no terms) | C13: Repaid in full | G13: 1 | R13: =SUM('Monthly Cash Flow Statement (Ex'!$D13:$P13) -> 1
B14: Borrowed Cash Injections | C14: Iron Bank Credit | J14: 65000 | R14: =SUM('Monthly Cash Flow Statement (Ex'!$D14:$P14) -> 65000
B15: Interest Income | R15: =SUM('Monthly Cash Flow Statement (Ex'!$D15:$P15) -> 0
B16: Tax Refunds | H16: 11120 | R16: =SUM('Monthly Cash Flow Statement (Ex'!$D16:$P16) -> 11120
B17: Other Cash income | C17: Balon accident ins. | M17: 8000 | R17: =SUM('Monthly Cash Flow Statement (Ex'!$D17:$P17) -> 8000
B18: Total Receipts | E18: =SUBTOTAL(109,'Monthly Cash Flow Statement (Ex'!E$10:E$17) -> 28125 | F18: =SUBTOTAL(109,'Monthly Cash Flow Statement (Ex'!F$10:F$17) -> 27085 | G18: =SUBTOTAL(109,'Monthly Cash Flow Statement (Ex'!G$10:G$17) -> 25051 | H18: =SUBTOTAL(109,'Monthly Cash Flow Statement (Ex'!H$10:H$17) -> 44270 | I18: =SUBTOTAL(109,'Monthly Cash Flow Statement (Ex'!I$10:I$17) -> 27910 | J18: =SUBTOTAL(109,'Monthly Cash Flow Statement (Ex'!J$10:J$17) -> 88600 | K18: =SUBTOTAL(109,'Monthly Cash Flow Statement (Ex'!K$10:K$17) -> 34820 | L18: =SUBTOTAL(109,'Monthly Cash Flow Statement (Ex'!L$10:L$17) -> 33775 | ... P18: =SUBTOTAL(109,'Monthly Cash Flow Statement (Ex'!P$10:P$17) -> 34030 | R18: =SUBTOTAL(109,'Monthly Cash Flow Statement (Ex'!$R$10:$R$17) -> 443471
B20: (-) Cash Payments
B21: Purchases (inventory) | E21: 13230 | F21: 12870 | G21: 11550 | H21: 12120 | I21: 20900 | J21: 18120 | K21: 19875 | L21: 13890 | M21: 14150 | N21: 10820 | O21: 9870 | P21: 11080 | R21: =SUM('Monthly Cash Flow Statement (Ex'!$D21:$P21) -> 168475
B22: Purchases (equipment) | G22: 560 | R22: =SUM('Monthly Cash Flow Statement (Ex'!$D22:$P22) -> 560
B23: Purchases (other) | R23: =SUM('Monthly Cash Flow Statement (Ex'!$D23:$P23) -> 0
B24: Salaries and wages | E24: 14070 | F24: 14070 | G24: 13670 | H24: 14070 | I24: 14070 | J24: 14070 | K24: 14070 | L24: 18560 | M24: 18560 | N24: 18560 | O24: 18560 | P24: 18560 | R24: =SUM('Monthly Cash Flow Statement (Ex'!$D24:$P24) -> 190890
B25: Payroll expense (tax, benefits) | G25: 80 | K25: 440 | L25: 120 | P25: 90 | R25: =SUM('Monthly Cash Flow Statement (Ex'!$D25:$P25) -> 730
B26: Office supplies | E26: 800 | I26: 650 | L26: 150 | N26: 435 | O26: 1210 | R26: =SUM('Monthly Cash Flow Statement (Ex'!$D26:$P26) -> 3245
B27: Repairs & maintenance | H27: 4680 | M27: 645 | R27: =SUM('Monthly Cash Flow Statement (Ex'!$D27:$P27) -> 5325
B28: Marketing | D28: - | E28: - | F28: - | G28: - | H28: - | I28: - | J28: - | K28: - | L28: - | M28: - | N28: - | O28: - | P28: - | R28: =SUM('Monthly Cash Flow Statement (Ex'!$D28:$P28) -> 0
B29: Google AdWords | E29: 900 | F29: 950 | G29: 1100 | H29: 640 | I29: 620 | J29: 580 | K29: 475 | L29: 370 | M29: 395 | N29: 420 | O29: 680 | P29: 780
B30: Banner Men | E30: 240 | F30: 240 | G30: 240 | K30: 240 | L30: 240 | M30: 240
B31: Transportation & fuel | H31: 40 | N31: 90 | R31: =SUM('Monthly Cash Flow Statement (Ex'!$D31:$P31) -> 130
B32: Accounting & legal | J32: 410 | M32: 1200 | R32: =SUM('Monthly Cash Flow Statement (Ex'!$D32:$P32) -> 1610
B33: Rent & facility | E33: 2100 | F33: 2100 | G33: 2100 | H33: 2100 | I33: 2100 | J33: 2100 | K33: 2100 | L33: 2100 | M33: 2100 | N33: 2100 | O33: 2100 | P33: 2100 | R33: =SUM('Monthly Cash Flow Statement (Ex'!$D33:$P33) -> 25200
B34: Telecom | C34: Raven Telco | E34: 320 | F34: 320 | G34: 320 | H34: 320 | I34: 320 | J34: 320 | K34: 320 | L34: 320 | M34: 320 | N34: 320 | O34: 320 | P34: 320 | R34: =SUM('Monthly Cash Flow Statement (Ex'!$D34:$P34) -> 3840
B35: Utilities #1 | C35: Whale Oil | E35: 55 | R35: =SUM('Monthly Cash Flow Statement (Ex'!$D35:$P35) -> 55
B36: Utilities #2
B37: Utilities #3
B38: Insurance | E38: 30 | F38: 30 | G38: 30 | H38: 30 | I38: 30 | J38: 60 | K38: 60 | L38: 60 | M38: 120 | N38: 120 | O38: 120 | P38: 120 | R38: =SUM('Monthly Cash Flow Statement (Ex'!$D38:$P38) -> 810
B39: Taxes | R39: =SUM('Monthly Cash Flow Statement (Ex'!$D39:$P39) -> 0
B40: Interest | K40: 100 | L40: 100 | M40: 100 | N40: 100 | O40: 100 | P40: 100 | R40: =SUM('Monthly Cash Flow Statement (Ex'!$D40:$P40) -> 600
B41: Other (specify) | R41: =SUM('Monthly Cash Flow Statement (Ex'!$D41:$P41) -> 0
B42: Total Cash Payments | D42: =SUBTOTAL(109,'Monthly Cash Flow Statement (Ex'!$D$21:$D$41) -> 0 | E42: =SUBTOTAL(109,'Monthly Cash Flow Statement (Ex'!$E$21:$E$41) -> 31745 | F42: =SUBTOTAL(109,'Monthly Cash Flow Statement (Ex'!$F$21:$F$41) -> 30580 | G42: =SUBTOTAL(109,'Monthly Cash Flow Statement (Ex'!$G$21:$G$41) -> 29650 | H42: =SUBTOTAL(109,'Monthly Cash Flow Statement (Ex'!$H$21:$H$41) -> 34000 | I42: =SUBTOTAL(109,'Monthly Cash Flow Statement (Ex'!$I$21:$I$41) -> 38690 | J42: =SUBTOTAL(109,'Monthly Cash Flow Statement (Ex'!$J$21:$J$41) -> 35660 | K42: =SUBTOTAL(109,'Monthly Cash Flow Statement (Ex'!$K$21:$K$41) -> 37680 | L42: =SUBTOTAL(109,'Monthly Cash Flow Statement (Ex'!$L$21:$L$41) -> 35910 | M42: =SUBTOTAL(109,'Monthly Cash Flow Statement (Ex'!$M$21:$M$41) -> 37830 | N42: =SUBTOTAL(109,'Monthly Cash Flow Statement (Ex'!$N$21:$N$41) -> 32965 | O42: =SUBTOTAL(109,'Monthly Cash Flow Statement (Ex'!$O$21:$O$41) -> 32960 | P42: =SUBTOTAL(109,'Monthly Cash Flow Statement (Ex'!$P$21:$P$41) -> 33150 | R42: =SUBTOTAL(109,'Monthly Cash Flow Statement (Ex'!$R$21:$R$41) -> 401470
B44: (-) Cash Payments (Non P&L)
...
